BEGIN:VCALENDAR
VERSION:2.0
PRODID:-//African American Breast Cancer Alliance - ECPv6.15.17.1//NONSGML v1.0//EN
CALSCALE:GREGORIAN
METHOD:PUBLISH
X-WR-CALNAME:African American Breast Cancer Alliance
X-ORIGINAL-URL:https://aabcainc.org
X-WR-CALDESC:Events for African American Breast Cancer Alliance
REFRESH-INTERVAL;VALUE=DURATION:PT1H
X-Robots-Tag:noindex
X-PUBLISHED-TTL:PT1H
BEGIN:VTIMEZONE
TZID:America/Chicago
BEGIN:DAYLIGHT
TZOFFSETFROM:-0600
TZOFFSETTO:-0500
TZNAME:CDT
DTSTART:20250309T080000
END:DAYLIGHT
BEGIN:STANDARD
TZOFFSETFROM:-0500
TZOFFSETTO:-0600
TZNAME:CST
DTSTART:20251102T070000
END:STANDARD
BEGIN:DAYLIGHT
TZOFFSETFROM:-0600
TZOFFSETTO:-0500
TZNAME:CDT
DTSTART:20260308T080000
END:DAYLIGHT
BEGIN:STANDARD
TZOFFSETFROM:-0500
TZOFFSETTO:-0600
TZNAME:CST
DTSTART:20261101T070000
END:STANDARD
BEGIN:DAYLIGHT
TZOFFSETFROM:-0600
TZOFFSETTO:-0500
TZNAME:CDT
DTSTART:20270314T080000
END:DAYLIGHT
BEGIN:STANDARD
TZOFFSETFROM:-0500
TZOFFSETTO:-0600
TZNAME:CST
DTSTART:20271107T070000
END:STANDARD
END:VTIMEZONE
BEGIN:VEVENT
DTSTART;TZID=America/Chicago:20260221T130000
DTEND;TZID=America/Chicago:20260221T143000
DTSTAMP:20260420T082523
CREATED:20260215T035006Z
LAST-MODIFIED:20260215T041456Z
UID:1258-1771678800-1771684200@aabcainc.org
SUMMARY:Embracing Life Support Group ZOOM Meeting
DESCRIPTION:Embracing Life Support Group Zoom meeting of breast cancer survivors and those who have been directly impacted by breast cancer where we share our breast cancer journeys.  The free\,virtual group meets monthly every third (3rd) Saturday via Zoom.  Breast cancer patients and survivors must complete the Survivor Network application (www.aabcainc.org) to receive the Zoom meeting link. \n \n 
URL:https://aabcainc.org/event/embracing-life-support-group-zoom-meeting/
CATEGORIES:Online Meeting
ORGANIZER;CN="AABCA":MAILTO:aabca@aabcainc.org
END:VEVENT
BEGIN:VEVENT
DTSTART;TZID=America/Chicago:20260411T120000
DTEND;TZID=America/Chicago:20260411T140000
DTSTAMP:20260420T082523
CREATED:20260215T024203Z
LAST-MODIFIED:20260411T014022Z
UID:1257-1775908800-1775916000@aabcainc.org
SUMMARY:Embracing Life Support Group In Person
DESCRIPTION:Embracing Life Support Group meeting of breast cancer\, cancer survivors\, care supporters and family members that have been directly impacted by cancer.  The free\, in-person group meets monthly every second (2nd) Saturday.  The meetings include discussion\, lunch\, sharing our stories\, emotional health and wellness activities. This group meeting is held at the Sabathani Community Center until June 27\, 2026.  Future meetings will be announced later.
URL:https://aabcainc.org/event/embracing-life-support-group-in-person/
LOCATION:Sabathani Community Center\, 310 East 38th Street\, Minneapolis\, 55409\, United States
CATEGORIES:Breast Cancer Survivors Support Meeting
END:VEVENT
END:VCALENDAR