BEGIN:VCALENDAR
VERSION:2.0
PRODID:-//African American Breast Cancer Alliance - ECPv6.15.17.1//NONSGML v1.0//EN
CALSCALE:GREGORIAN
METHOD:PUBLISH
X-ORIGINAL-URL:https://aabcainc.org
X-WR-CALDESC:Events for African American Breast Cancer Alliance
REFRESH-INTERVAL;VALUE=DURATION:PT1H
X-Robots-Tag:noindex
X-PUBLISHED-TTL:PT1H
BEGIN:VTIMEZONE
TZID:America/Chicago
BEGIN:DAYLIGHT
TZOFFSETFROM:-0600
TZOFFSETTO:-0500
TZNAME:CDT
DTSTART:20240310T080000
END:DAYLIGHT
BEGIN:STANDARD
TZOFFSETFROM:-0500
TZOFFSETTO:-0600
TZNAME:CST
DTSTART:20241103T070000
END:STANDARD
BEGIN:DAYLIGHT
TZOFFSETFROM:-0600
TZOFFSETTO:-0500
TZNAME:CDT
DTSTART:20250309T080000
END:DAYLIGHT
BEGIN:STANDARD
TZOFFSETFROM:-0500
TZOFFSETTO:-0600
TZNAME:CST
DTSTART:20251102T070000
END:STANDARD
BEGIN:DAYLIGHT
TZOFFSETFROM:-0600
TZOFFSETTO:-0500
TZNAME:CDT
DTSTART:20260308T080000
END:DAYLIGHT
BEGIN:STANDARD
TZOFFSETFROM:-0500
TZOFFSETTO:-0600
TZNAME:CST
DTSTART:20261101T070000
END:STANDARD
END:VTIMEZONE
BEGIN:VEVENT
DTSTART;TZID=America/Chicago:20251018T160000
DTEND;TZID=America/Chicago:20251018T190000
DTSTAMP:20260425T062209
CREATED:20250824T235548Z
LAST-MODIFIED:20250827T141055Z
UID:931-1760803200-1760814000@aabcainc.org
SUMMARY:The Groveland Woodwind Quintet Celebrating Minnesota Composers & Composers of African descent
DESCRIPTION:When: Saturday\, October 18\, 2025 4:00 PM \nWhere: Sundin Music Hall \nHamline University\n1531 Hewitt Avenue\nSaint Paul\, MN 55104 \nDonations to benefit the African American Breast Cancer Alliance\, Inc.
URL:https://aabcainc.org/event/the-groveland-woodwind-quintet/
LOCATION:Hamline University\, 1531 Hewitt Avenue\, Saint Paul\, MN\, 55104
CATEGORIES:Music Benefit
ATTACH;FMTTYPE=image/jpeg:https://aabcainc.org/wp-content/uploads/2025/08/GrovelandWindwoodQuintet.jpg
END:VEVENT
END:VCALENDAR